BEGIN:VCALENDAR
VERSION:2.0
PRODID:-//Espacio Tangente - ECPv6.15.17.1//NONSGML v1.0//EN
CALSCALE:GREGORIAN
METHOD:PUBLISH
X-WR-CALNAME:Espacio Tangente
X-ORIGINAL-URL:https://espaciotangente.net
X-WR-CALDESC:Eventos para Espacio Tangente
REFRESH-INTERVAL;VALUE=DURATION:PT1H
X-Robots-Tag:noindex
X-PUBLISHED-TTL:PT1H
BEGIN:VTIMEZONE
TZID:UTC
BEGIN:STANDARD
TZOFFSETFROM:+0000
TZOFFSETTO:+0000
TZNAME:UTC
DTSTART:20240101T000000
END:STANDARD
END:VTIMEZONE
BEGIN:VEVENT
DTSTART;TZID=UTC:20250301T180000
DTEND;TZID=UTC:20250301T180000
DTSTAMP:20260424T142306
CREATED:20260204T092823Z
LAST-MODIFIED:20260310T190206Z
UID:1453-1740852000-1740852000@espaciotangente.net
SUMMARY:Presentación 'Untoxic Magazine Vol. 2 - The Art Rave'
DESCRIPTION:Burgos se convierte en el epicentro del arte\, la expresión y la resistencia creativa con la presentación de Untoxic Magazine Vol. 2 – The Art Rave. \nVive una experiencia única con: \n\nProyecciones y Photocall\nPresentación y Mesa Redonda\nVenta de ejemplares y merch\nDJ Set by Alviker\n\nExplora\, cuestiona\, conéctate. Esto es UnToxic.
URL:https://espaciotangente.net/evento/presentacion-untoxic-magazine-vol-2-the-art-rave/
CATEGORIES:Arte / Artesanía,Charla / Conferencia
ATTACH;FMTTYPE=image/jpeg:https://espaciotangente.net/wp-content/uploads/2026/02/Untoxic-Magazine-Burgos-The-Art-Rave.jpg
END:VEVENT
END:VCALENDAR