BEGIN:VCALENDAR
VERSION:2.0
PRODID:-//Espacio Tangente - ECPv6.15.17.1//NONSGML v1.0//EN
CALSCALE:GREGORIAN
METHOD:PUBLISH
X-WR-CALNAME:Espacio Tangente
X-ORIGINAL-URL:https://espaciotangente.net
X-WR-CALDESC:Eventos para Espacio Tangente
REFRESH-INTERVAL;VALUE=DURATION:PT1H
X-Robots-Tag:noindex
X-PUBLISHED-TTL:PT1H
BEGIN:VTIMEZONE
TZID:UTC
BEGIN:STANDARD
TZOFFSETFROM:+0000
TZOFFSETTO:+0000
TZNAME:UTC
DTSTART:20240101T000000
END:STANDARD
END:VTIMEZONE
BEGIN:VEVENT
DTSTART;VALUE=DATE:20250926
DTEND;VALUE=DATE:20251018
DTSTAMP:20260424T034507
CREATED:20251217T160636Z
LAST-MODIFIED:20260305T175012Z
UID:945-1758844800-1760745599@espaciotangente.net
SUMMARY:Espacio Latente
DESCRIPTION:Espacio Latente\, es un programa de actividades dedicado exclusivamente a la formación\, difusión\, creación y promoción en fotografía analógica\, con el fin de ayudar a todxs aquellos interesados a iniciarse o avanzar en estas técnicas. \nDentro de este programa\, desarrollamos diferentes acciones a lo largo del año\, destinadas a cumplir los objetivos del mismo\, como son diferentes talleres de iniciación y avanzados\, acciones callejeras de difusión de la fotografía analógica\, presentación de fotolibros\, exposiciones\, charlas y la organización del Certamen a nivel nacional\, Espacio Latente\, con una duración de tres semanas\, dentro de las cuales se concentran gran diversidad de exposiciones y actividades\, todas ellas abiertas al público en general. \nDisponemos de laboratorio fotográfico en blanco y negro y color\, equipo para digitalización de negativos\, platos de estudio fotográfico con iluminación artificial y un equipo de personal especializado para llevar a cabo los objetivos del programa.
URL:https://espaciotangente.net/evento/espacio-latente/
LOCATION:Burgos
CATEGORIES:Fotografía
ATTACH;FMTTYPE=image/jpeg:https://espaciotangente.net/wp-content/uploads/2025/12/w-ET_ELatenteCertamenCartel2609171025.jpg
END:VEVENT
BEGIN:VEVENT
DTSTART;TZID=UTC:20251017T200000
DTEND;TZID=UTC:20251017T200000
DTSTAMP:20260424T034507
CREATED:20251217T160919Z
LAST-MODIFIED:20260310T185152Z
UID:948-1760731200-1760731200@espaciotangente.net
SUMMARY:Performance Poética - Presentación del poemario ENVÉS de Elene Oña
DESCRIPTION:“en la desnudez de la vigilia\nlas horas quietas desvelan\nel envés\nde la epidermis\,\nel dormitar de unas ascuas\nlentamente consumidas” \nEnvés fue escrito entre 2018 y 2024 aproximadamente. Recoge una veintena de poemas atravesados por la maternidad\, la soledad\, el encuentro íntimo\, viajes\, la vida en un pueblo de Castilla\, una pandemia. \nSe trata de una poesía de supervivencia\, desnuda\, con pocas concesiones al artificio poético. Un ejercicio de nombrar para comprender y comprenderse\, para ordenar el torbellino\, sacarse las espinas y tratar de no ser borrada por la maleza. \nEn esta presentación quiero accionar las palabras\, encarnar los poemas\, festejar y compartir una voz que es mía y tal vez no lo es. Abrir nuevas brechas a lo real desde una presencia y un sonar de silencios y entrañas. \nEste poemario es un libro autoeditado y fue maquetado por Ana Condado durante el otoño-invierno de 2024-2025.
URL:https://espaciotangente.net/evento/performance-poetica-presentacion-del-poemario-enves-de-elene-ona/
LOCATION:Burgos
CATEGORIES:Música y artes vivas
ATTACH;FMTTYPE=image/png:https://espaciotangente.net/wp-content/uploads/2025/12/w-ET_EOna_Cartel171025.png
END:VEVENT
END:VCALENDAR