BEGIN:VCALENDAR
VERSION:2.0
PRODID:-//Espacio Tangente - ECPv6.15.17.1//NONSGML v1.0//EN
CALSCALE:GREGORIAN
METHOD:PUBLISH
X-ORIGINAL-URL:https://espaciotangente.net
X-WR-CALDESC:Eventos para Espacio Tangente
REFRESH-INTERVAL;VALUE=DURATION:PT1H
X-Robots-Tag:noindex
X-PUBLISHED-TTL:PT1H
BEGIN:VTIMEZONE
TZID:UTC
BEGIN:STANDARD
TZOFFSETFROM:+0000
TZOFFSETTO:+0000
TZNAME:UTC
DTSTART:20240101T000000
END:STANDARD
END:VTIMEZONE
BEGIN:VEVENT
DTSTART;TZID=UTC:20251025T190000
DTEND;TZID=UTC:20251025T190000
DTSTAMP:20260424T034749
CREATED:20251226T075558Z
LAST-MODIFIED:20260310T185126Z
UID:989-1761418800-1761418800@espaciotangente.net
SUMMARY:Autofonías - Concierto + Taller por Maia Basso y Gabi Schubert (Ka'a dúo)
DESCRIPTION:El sábado 25 de octubre\, Espacio Tangente presenta AUTOFONÍAS\, un concierto + taller de técnica No Input Mixer por Maia Basso y Gabi Schubert (Ka’a dúo). \nEl No Input Mixer es una técnica de experimentación sonora que consiste en utilizar una consola de mezcla sin fuentes externas conectadas\, generando y manipulando retroalimentaciones internas del propio dispositivo. Esta aproximación\, popularizada a finales de los años noventa por el artista japonés Toshimaru Nakamura\, ha abierto nuevas posibilidades en la música experimental\, explorando texturas\, timbres y dinámicas únicas a partir de un instrumento que tradicionalmente se concibe como herramienta de control. Inspirados en esta práctica\, proponemos un encuentro que combina un concierto performático y un taller práctico\, invitando al público a adentrarse en el potencial creativo del sonido y la retroalimentación. A su vez\, esta técnica invita a aprovechar y reutilizar equipamiento antiguo o en desuso\, transformándolo en una herramienta creativa y revelando las posibilidades artísticas ocultas en aquello que podría considerarse descartado. \nLa actividad tendrá una duración aproximada de 2 horas (con posibilidades extenderse según la asistencia)\, distribuidas en dos instancias: 40 minutos de concierto\, donde presentaremos una exploración en vivo de las posibilidades del No Input Mixer\, y un taller experimental\, en el que compartiremos fundamentos técnicos de esta práctica y nuestra forma de abordarla en la presentación en vivo\, explicaremos el funcionamiento de los procesos de audio involucrados y brindaremos a los asistentes la oportunidad de experimentar con los equipos provistos. El objetivo es generar un espacio de descubrimiento colectivo\, reflexión sobre el sonido y fomento de la creatividad a través de la interacción directa con la tecnología. \nKa’a es un dúo argentino radicado en España\, dedicado a la exploración sonora y la canción improvisada. Gabriel Schubert y Maia Basso unen fuerzas para crear experiencias en vivo que fluyen entre composiciones estructuradas e improvisación libre.
URL:https://espaciotangente.net/evento/autofonias-concierto-taller-por-maia-basso-y-gabi-schubert-kaa-duo/
LOCATION:Burgos
CATEGORIES:Música y artes vivas,Talleres
ATTACH;FMTTYPE=image/jpeg:https://espaciotangente.net/wp-content/uploads/2025/12/Autofonias.jpg
END:VEVENT
END:VCALENDAR