BEGIN:VCALENDAR
VERSION:2.0
PRODID:-//Espacio Tangente - ECPv6.15.17.1//NONSGML v1.0//EN
CALSCALE:GREGORIAN
METHOD:PUBLISH
X-WR-CALNAME:Espacio Tangente
X-ORIGINAL-URL:https://espaciotangente.net
X-WR-CALDESC:Eventos para Espacio Tangente
REFRESH-INTERVAL;VALUE=DURATION:PT1H
X-Robots-Tag:noindex
X-PUBLISHED-TTL:PT1H
BEGIN:VTIMEZONE
TZID:Europe/Madrid
BEGIN:DAYLIGHT
TZOFFSETFROM:+0100
TZOFFSETTO:+0200
TZNAME:CEST
DTSTART:20240331T010000
END:DAYLIGHT
BEGIN:STANDARD
TZOFFSETFROM:+0200
TZOFFSETTO:+0100
TZNAME:CET
DTSTART:20241027T010000
END:STANDARD
BEGIN:DAYLIGHT
TZOFFSETFROM:+0100
TZOFFSETTO:+0200
TZNAME:CEST
DTSTART:20250330T010000
END:DAYLIGHT
BEGIN:STANDARD
TZOFFSETFROM:+0200
TZOFFSETTO:+0100
TZNAME:CET
DTSTART:20251026T010000
END:STANDARD
BEGIN:DAYLIGHT
TZOFFSETFROM:+0100
TZOFFSETTO:+0200
TZNAME:CEST
DTSTART:20260329T010000
END:DAYLIGHT
BEGIN:STANDARD
TZOFFSETFROM:+0200
TZOFFSETTO:+0100
TZNAME:CET
DTSTART:20261025T010000
END:STANDARD
END:VTIMEZONE
BEGIN:VEVENT
DTSTART;VALUE=DATE:20251031
DTEND;VALUE=DATE:20251129
DTSTAMP:20260424T021943
CREATED:20251210T160013Z
LAST-MODIFIED:20260305T123050Z
UID:529-1761868800-1764374399@espaciotangente.net
SUMMARY:Re-Cordis
DESCRIPTION:RE-CORDIS: EXPOSICIÓN XX ANIVERSARIO DE LA COORDINADORA POR LA RECUPERACIÓN DE LA MEMORIA HISTÓRICA DE BURGOS\nCRMH BURGOS Y ESPACIO TANGENTE\nVisitas guiadas: Martes\, 25/11/25 a las 19:00h y Sábado 29/11/25 a las 12:30h. \nClausura y visita guiada\, Viernes\, 28/11/25 a las 20:00h.  \nEspacio Tangente une de nuevo sus fuerzas a la Coordinadora por la Recuperación de la Memoria Histórica de Burgos en esta ocasión para colaborar en la exposición de su vigésimo aniversario. \nEsta exposición propone a sus visitantes una reflexión documentada sobre el camino recorrido por la Coordinadora para la Recuperación de la Memoria Histórica de Burgos durante los últimos veinte años (2004-2024)\, es decir\, desde su fundación hasta este momento. A lo largo de este tiempo\, una asociación nacida en torno a la firme voluntad de no olvidar\, el motor y sentido profundo de todo lo realizado\, ha trabajado sin descanso para transformar un espacio de impunidad en territorio de memoria. \nEn el año 2004\, dentro de la eclosión del movimiento social comprometido con la recuperación de la memoria de las víctimas del franquismo\, desencadenado por la exhumación de las fosas de Priaranza del Bierzo (León)\, se funda la CRMH de Burgos\, una asociación fundamentalmente compuesta por familiares\, además de académicos\, profesionales\, técnicos\, artistas y otras personas que se han ido aproximando\, interesadas en trabajar en esta dirección. \nDos décadas es un tiempo suficiente para echar la vista atrás y revisar lo andado\, un camino cuyo origen y destino nace habitado por una amarga paradoja existencial\, el deseo de no ser\, de no haber sido\, de no saberse el resultado de una causa tan atroz\, tan espesa en capas sucesivas de dolor\, oscuridad y ausencia\, como es la de las víctimas de la represión desencadenada tras el golpe de Estado de julio de 1936. \nY\, sin embargo\, a la vez\, es la evidencia de una victoria\, la de las voces desobedientes que han atravesado el tiempo y sus circunstancias\, sujetando en los labios la memoria; la de las palabras encerradas en el pecho que solo podían escapar en susurros\, y que hoy vuelan libres\, pronunciadas en voz alta; la de quienes se negaron y se niegan hoy de nuevo\, a acatar mandatos de olvido o silencio\, y se encuentran por fin\, y se miran\, y se reconocen y caminan juntos.
URL:https://espaciotangente.net/evento/re-cordis/
LOCATION:Burgos
CATEGORIES:Exposiciones
ATTACH;FMTTYPE=image/jpeg:https://espaciotangente.net/wp-content/uploads/2025/12/Recordis-Exposicion-XX-Aniversario-Coordinadora-por-la-recuperacion-de-la-Memoria-Historica-de-Burgos.jpg
END:VEVENT
BEGIN:VEVENT
DTSTART;TZID=Europe/Madrid:20251128T200000
DTEND;TZID=Europe/Madrid:20251128T200000
DTSTAMP:20260424T021943
CREATED:20251211T131417Z
LAST-MODIFIED:20260304T184409Z
UID:692-1764360000-1764360000@espaciotangente.net
SUMMARY:'Es el alma la que danza\, el cuerpo le sigue'\, con Patxi Araujo
DESCRIPTION:Es el alma la que danza\, el cuerpo le sigue  \n“Es el alma la que danza\, el cuerpo le sigue” es una hermosa afirmación del precursor de la danza butoh Kazuo Ohno. Apela a la existencia de un principio distinto del cuerpo y de sus rutinas para hablar\, no ya del movimiento como hecho físico\, sino de su realidad como hecho estético. Para Ohno\, esta posibilidad pasa por despojar a ese cuerpo de todos sus movimientos habituales\, dejándolo huérfano de su saber-moverse  en este mundo. A partir de ese momento y en ese estado\, sería posible habilitarlo en otro  distinto de cualidad estética\, de otra manera inaccesible y extraño.   \nEl cuerpo-máquina despojado de su saber-hacer\, de su programa\, será mediado entonces  por destrezas que van más allá de las explicaciones de la habitual retórica del hardware o del software\, invitándonos a pensar en un ecosistema de procesos\, conexiones y  naturalezas que lo abran a esa otra dimensión.   \nMediante el análisis de las instalaciones The Trained Particles Circus y Ehime Daruma se hablará de máquinas nacidas de lo técnico como expresión y relación de un hardware y software singulares. Pero también de su origen en la narración\, de su gestación como  cuerpos para almas que bailan.   \nPatxi Araujo (Pamplona\, 1967) es artista e investigador. Profesor Titular de la Facultad de Bellas Artes de la Universidad del País Vasco UPV/EHU. A partir de una práctica artística que nunca ha abandonado\, desde 2008 su trabajo viene desarrollándose en el territorio de las poéticas de los nuevos medios. De una manera transdisciplinar y experimental\, se sirve de ellas para mediar las implicaciones estéticas de lo tecnológico.  \npatxiaraujo.com \nvimeo.com/user1789947
URL:https://espaciotangente.net/evento/692/
LOCATION:Burgos
CATEGORIES:Charla / Conferencia
ATTACH;FMTTYPE=image/jpeg:https://espaciotangente.net/wp-content/uploads/2025/12/ST_PAraujoCharlaA4_281125-2.jpeg
END:VEVENT
END:VCALENDAR