BEGIN:VCALENDAR
VERSION:2.0
PRODID:-//Espacio Tangente - ECPv6.15.17.1//NONSGML v1.0//EN
CALSCALE:GREGORIAN
METHOD:PUBLISH
X-ORIGINAL-URL:https://espaciotangente.net
X-WR-CALDESC:Eventos para Espacio Tangente
REFRESH-INTERVAL;VALUE=DURATION:PT1H
X-Robots-Tag:noindex
X-PUBLISHED-TTL:PT1H
BEGIN:VTIMEZONE
TZID:UTC
BEGIN:STANDARD
TZOFFSETFROM:+0000
TZOFFSETTO:+0000
TZNAME:UTC
DTSTART:20240101T000000
END:STANDARD
END:VTIMEZONE
BEGIN:VEVENT
DTSTART;TZID=UTC:20251010T190000
DTEND;TZID=UTC:20251010T190000
DTSTAMP:20260424T090152
CREATED:20251226T091135Z
LAST-MODIFIED:20260305T124434Z
UID:995-1760122800-1760122800@espaciotangente.net
SUMMARY:¿Matar o Abrazar el Monstruo?  - V Convocatoria para artistas en residencia de Imágenes y Palabras
DESCRIPTION:Imágenes y Palabras* convoca anualmente a artistas a presentar proyectos alrededor de un tema específico que tiene relación con el entorno en que nos movemos (La Bureba / Las Merindades / Burgos / pueblos…). Un comité de selección elige las propuestas para llevar a cabo en las instalaciones del Hacedor en la Aldea del Portillo de Busto (Burgos)\, en un periodo de quince días. La estancia es gratis a cambio de que el artista deja la obra\, al menos por un periodo de dos años\, a la asociación para ser usada en exposiciones y presentaciones. \nAntes\, durante y después de las residencias\, todos los seleccionados se comunican\, a través de reuniones online\, correos o teléfonos. Una vez terminadas\, Imágenes y Palabras se encarga de juntar todas las obras en una muestra en las salas del Hacedor y a posteriori se vuelcan las imágenes a una página web apocalipsisrural.com \nEste año va de monstruos: los de antaño y los de ahora\, los crecidos y los construidos\, los que den miedo y los que hacen reír\, … El monstruo\, interpretado en cualquier disciplina artística. Fueron seleccionados este año: Chaelim Lim (Corea/EEUU)\, ShiSoH (Corea/Francia)\, Elise Mollie (EEUU)\, Juan Perdiguero (España)\, Nahelli Chavoya (México/Irlanda)\, Zack Wood (EEUU/Japón)\, Eva Jo (Inglaterra)\, Elhalm Mousavi (Irán) y Jing BAI y Lucy MA (China) y han ido pasando por la Aldea entre junio y octubre. Ya estamos en la recta final y el 18 de octubre se inaugurará la muestra con una performance de Jing BAI y Lucy MA. \nPrevio a este acto\, el próximo viernes 10 de octubre presentamos algunos de los artistas seleccionados en Espacio Tangente y te invitamos a compartir con ellos sus experiencias y hablar de la razón y sinrazón de estas residencias. \nSerá un placer vernos allí. \nImágenes y Palabras @hacedorimagenesypalabras \n*La asociación cultural Imágenes y Palabras organiza desde 1999 una acción continua\, relacionada con las artes y la cultura\, en pueblos\, campos y ciudades principalmente de la provincia de Burgos. Paralelamente\, la asociación creó\, con ayuda de cientos de voluntarios nacionales e internacionales\, El Hacedor: un centro de creación contemporánea con talleres para la producción artística individual y colectiva y una sala de exposiciones\, en una Aldea en el Norte de la provincia de Burgos con muy poquitos habitantes. La asociación promueve la creación libre y comprometida\, busca la complicidad del público y fomenta el encuentro artístico y humano. https://elhacedor.es/?p=20770
URL:https://espaciotangente.net/evento/matar-o-abrazar-el-monstruo-v-convocatoria-para-artistas-en-residencia-de-imagenes-y-palabras/
CATEGORIES:Arte / Artesanía
ATTACH;FMTTYPE=image/jpeg:https://espaciotangente.net/wp-content/uploads/2025/12/Matar-o-abrazar-al-monstruo.jpg
END:VEVENT
END:VCALENDAR