BEGIN:VCALENDAR
VERSION:2.0
PRODID:-//Espacio Tangente - ECPv6.15.17.1//NONSGML v1.0//EN
CALSCALE:GREGORIAN
METHOD:PUBLISH
X-ORIGINAL-URL:https://espaciotangente.net
X-WR-CALDESC:Eventos para Espacio Tangente
REFRESH-INTERVAL;VALUE=DURATION:PT1H
X-Robots-Tag:noindex
X-PUBLISHED-TTL:PT1H
BEGIN:VTIMEZONE
TZID:UTC
BEGIN:STANDARD
TZOFFSETFROM:+0000
TZOFFSETTO:+0000
TZNAME:UTC
DTSTART:20250101T000000
END:STANDARD
END:VTIMEZONE
BEGIN:VEVENT
DTSTART;VALUE=DATE:20260102
DTEND;VALUE=DATE:20260106
DTSTAMP:20260424T011238
CREATED:20251216T140719Z
LAST-MODIFIED:20260305T200151Z
UID:894-1767312000-1767657599@espaciotangente.net
SUMMARY:Rasca Mercado
DESCRIPTION:¡Vuelve la quinta edición de Rasca Mercado con más energía que nunca! Del 2 al 5 de enero apoya la cultura local pasando por el Espacio Tangente y disfrutando de arte\, artesanía\, autoedición y música en directo.
URL:https://espaciotangente.net/evento/rasca-mercado/
CATEGORIES:Arte / Artesanía
ATTACH;FMTTYPE=image/jpeg:https://espaciotangente.net/wp-content/uploads/2025/12/Rasca-Mercado-2025.jpg
END:VEVENT
END:VCALENDAR