BEGIN:VCALENDAR
VERSION:2.0
PRODID:-//Espacio Tangente - ECPv6.15.17.1//NONSGML v1.0//EN
CALSCALE:GREGORIAN
METHOD:PUBLISH
X-WR-CALNAME:Espacio Tangente
X-ORIGINAL-URL:https://espaciotangente.net
X-WR-CALDESC:Eventos para Espacio Tangente
REFRESH-INTERVAL;VALUE=DURATION:PT1H
X-Robots-Tag:noindex
X-PUBLISHED-TTL:PT1H
BEGIN:VTIMEZONE
TZID:Europe/Madrid
BEGIN:DAYLIGHT
TZOFFSETFROM:+0100
TZOFFSETTO:+0200
TZNAME:CEST
DTSTART:20250330T010000
END:DAYLIGHT
BEGIN:STANDARD
TZOFFSETFROM:+0200
TZOFFSETTO:+0100
TZNAME:CET
DTSTART:20251026T010000
END:STANDARD
BEGIN:DAYLIGHT
TZOFFSETFROM:+0100
TZOFFSETTO:+0200
TZNAME:CEST
DTSTART:20260329T010000
END:DAYLIGHT
BEGIN:STANDARD
TZOFFSETFROM:+0200
TZOFFSETTO:+0100
TZNAME:CET
DTSTART:20261025T010000
END:STANDARD
BEGIN:DAYLIGHT
TZOFFSETFROM:+0100
TZOFFSETTO:+0200
TZNAME:CEST
DTSTART:20270328T010000
END:DAYLIGHT
BEGIN:STANDARD
TZOFFSETFROM:+0200
TZOFFSETTO:+0100
TZNAME:CET
DTSTART:20271031T010000
END:STANDARD
END:VTIMEZONE
BEGIN:VEVENT
DTSTART;TZID=Europe/Madrid:20260327T203000
DTEND;TZID=Europe/Madrid:20260327T213000
DTSTAMP:20260423T180815
CREATED:20260324T193908Z
LAST-MODIFIED:20260328T101932Z
UID:1784-1774643400-1774647000@espaciotangente.net
SUMMARY:CLUB DEL DISCO / THE RISE AND FALL OF ZIGGY STARDUST AND THE SPIDERS FROM MARS. DAVID BOWIE.
DESCRIPTION:Viernes 27 de marzo a las 20:30 h. \n¿Consideran las estrellas que la Tierra está en lo alto de los cielos?   El tópico espacial siempre había atraído a David Bowie\, que antes de 1972 lo había desarrollado en temas (temazos\, si se me permite) como «Space Oddity» o «Life on Mars?». \nSin embargo\, el artista explota al máximo todo el universo de ciencia-ficción de su mente en el álbum «The Rise and Fall of Ziggy Stardust and the Spiders from Mars».   Con él nace\, además\, su primer alter ego: Ziggy Stardust posee a Bowie como una creación que gana demasiado poder\, convirtiéndose en una estrella cuyo brillo es tan fuerte que ciega su propia mirada. Es un extraterrestre que llega para salvar la Tierra\, pero su carácter radiante no le hace inmune a cualquier quemadura. Las ígneas emociones humanas le cautivan\, podrían consumirlo; pero la llama del Hombre Estrella también se propaga fácilmente\, con la música como combustible… \n¡El viernes 27 de marzo te espera una velada cósmica y glam cargada de sorpresas que no te puedes perder! \n  \n 
URL:https://espaciotangente.net/evento/club-del-disco-the-rise-and-fall-of-ziggy-stardust-and-the-spiders-from-mars-david-bowie/
LOCATION:Biblioteca\, C/ Valentín Jalón\, 10\, Bajo\, Burgos\, Spain
CATEGORIES:Charla / Conferencia,Música y artes vivas
ATTACH;FMTTYPE=image/jpeg:https://espaciotangente.net/wp-content/uploads/2026/03/f-ClubdelDiscoDBowie270326.jpeg
END:VEVENT
BEGIN:VEVENT
DTSTART;TZID=Europe/Madrid:20260322T180000
DTEND;TZID=Europe/Madrid:20260322T213000
DTSTAMP:20260423T180815
CREATED:20260319T122618Z
LAST-MODIFIED:20260413T175617Z
UID:1778-1774202400-1774215000@espaciotangente.net
SUMMARY:CAMPAÑA DE APOYO A LAS SANCIONADAS / VUELTA CICLISTA VALLADOLID
DESCRIPTION:CHARLA DE PRESENTACIÓN Y DABKEH\nDomingo 22 de marzo a las 18:00h.  \nPresentación de la campaña de apoyo a las personas sancionadas por el boicot a la Vuelta Ciclista 2025 en Valladolid* \nCharla informativa \nMuestra de baile Dabkeh por parte del grupo de baile Jafra \nMesa de venta de productos donados por artistas \nBarra \nHora de comienzo: 18.00 h. \nENTRADA LIBRE\nTodo el dinero recaudado irá dirigido a ayudar económicamente a las personas sancionadas.
URL:https://espaciotangente.net/evento/campana-de-apoyo-a-las-sancionadas-vuelta-ciclista-valladolid/
LOCATION:Espacio Tangente\, c/ Valentín Jalón\, 10\, Bajo\, Burgos\, Burgos\, 09005\, Spain
CATEGORIES:Charla / Conferencia,Música y artes vivas
ATTACH;FMTTYPE=image/jpeg:https://espaciotangente.net/wp-content/uploads/2026/03/f-CampanaApoyoSanciones220326.jpg
END:VEVENT
BEGIN:VEVENT
DTSTART;TZID=Europe/Madrid:20260312T190000
DTEND;TZID=Europe/Madrid:20260321T190000
DTSTAMP:20260423T180815
CREATED:20260312T192300Z
LAST-MODIFIED:20260413T175712Z
UID:1731-1773342000-1774119600@espaciotangente.net
SUMMARY:VIÑETAS & SUBVERSIÓN / III JORNADAS DE CÓMIC SOCIAL Y LIBERTARIO
DESCRIPTION:Del 12 al 21 de marzo 2026 \nIBÁN DÍAZ – EL SÓTANO\nJueves\, 12 de marzo a las 19:00h en la Biblioteca Anarquista La Maldita (C/ Pablo Casals nº 17).\nCARLOS AZAGRA Y RAQUEL REVUELTA – HISTORIAS DEL PUNK\nViernes\, 13 de marzo a las 19:00h en el CSR Gamonal (C/ Pablo Casals nº 3).\nMANOLITO RASTAMÁN – GREGARIES III\nJueves\, 19 de marzo a las 19:00h en CGT (C/Calera nº 12).\nALICIA MARTÍN SANTOS – HECHA A SÍ MISMA\nViernes\, 20 de marzo a las 19:00h en CNT Burgos (C/ Doña Berenguela nº 3).\nJAVIER MARQUINA Y JAIME INFANTE – DUM DUM\nSábado\, 21 de marzo a las 19:00h en Espacio Tangente (C/ Valentín Jalón nº 10). \nBajo el lema Viñetas y Subversión\, las Jornadas de Cómic Social y Libertario de Burgos cumplen ya su III edición. Y como no podría ser de otra manera\, el programa de este año\, que se desarrollará del 12 al 21 de marzo\, viene cargado de un montón de ideas subversivas y rabia felina\, pero\, sobre todo\, de mucho cómic. Una iniciativa que surge gracias al esfuerzo conjunto de varias organizaciones y colectivos que apuestan por la autogestión para dar vida a una jornadas que comienzan a convertirse en un referente\, no solo en el mundo del tebeo y la novela gráfica\, sino también en la difusión del pensamiento crítico. \nEl Sótano es un cómic con el que nos sumergimos en la historia de los últimos maquis que combatieron en Sierra Nevada. La antaño poderosa Agrupación guerrillera de Granada y Málaga\, por la que han pasado cientos de combatientes\, se desmorona sin remedio. Los últimos guerrilleros son perseguidos por la Guardia Civil\, que ha desplegado unidades especializadas por todo el sureste andaluz. La única esperanza de los supervivientes es alcanzar la lejana frontera con Francia. Contaremos con la presencia de Ibán Diaz\, profesor de Geografía en la Universidad de Sevilla e ilustrador\, autor también de otros cómics como Los Pistoleros donde aborda la conflictividad social de la Sevilla de los años 20. \nHistorias del punk es un tebeo en el que Carlos Azagra y Encarna Revuelta\, un tándem creativo que ha dado a la luz novelas gráficas como Pepe Buenaventura Durruti o El último aragonés vivo\, han encargado a sus personajes Pedro Pico y Pico Vena que den un buen repaso a la historia del punk ibérico. Un viaje a pie por la memoria cruzando a través de eventos\, conciertos\, festivales\, anécdotas bien jugosas\, estilos y una barbaridad de grupos metiendo caña. Porque como bien dicen ellos mismos… \nGregaries III. Okupas y Prekaries es una recopilación de las tiras\, con las que a lo largo de los últimos años\, Manolito Rastamán ha colaborado con el periódico Rojo y Negro de CGT. Esta subdividido temáticamente\, desde el punto de vista vital del Gregario\, reflejando esos mundos que ama\, esos mundos de barrios con los que construye personajes vitalistas\, terriblemente de la clase obrera\, siempre antisistema\, siempre antirrepresión. Sus viñetas y sus diálogos son sórdidos\, sin idealizaciones\, directos\, políticamente muy incorrectos\, viñetas que pertenecen a la imaginería del anarquismo existencialista. \n¿Qué ocurriría si siguiéramos punto por punto las claves de los bestsellers de autoayuda? Esto será lo que Cuca Báumez\, prometedora consultora en apuros\, intentará poner en práctica. ¿Logrará\, a base de proferir anglicismos y frases motivacionales\, todo lo que se proponga? Hecha a sí misma\, de la autora Alicia Martín Santos\, es una sátira sobre la moderna obsesión con el éxito y el desarrollo personal\, una mirada crítica al mundo laboral sumada a una clara perspectiva de género. Una hilarante comedia en la que conviven el costumbrismo y la inteligencia artificial\, ambientada en el Madrid de las Big Four poblado de tiburones de medio pelo y lobos de Wall Street wannabes. \nJavier Marquina (guion) y Jaime Infante (ilustración) son los autores de Dum Dum\, un cómic que aborda la impactante historia del boxeador Dum Dum Pacheco tomando como referencia su autobiografía “Mear Sangre”\, que el boxeador comenzó a escribir en la cárcel a los 19 años cuando llevaba ya tres preso en Carabanchel. Un relato gráfico que revela una realidad escalofriante en el que Marquina e Infante arman una historia en la que la voluntad\, el destino y el carácter son los guionistas en la sombra de la vida de Dum Dum\, pionero de la delincuencia juvenil\, uno de los presos más jóvenes que ostentó el récord de periodo en celda de castigo (un año aislado) y campeón de España de los pesos wélter en seis ocasiones.
URL:https://espaciotangente.net/evento/vinetas-subversion-iii-jornadas-de-comic-social-y-libertario/
CATEGORIES:Arte / Artesanía,Charla / Conferencia
ATTACH;FMTTYPE=image/jpeg:https://espaciotangente.net/wp-content/uploads/2026/03/VinetasSubversionCartel26.jpeg
END:VEVENT
BEGIN:VEVENT
DTSTART;TZID=Europe/Madrid:20260305T000000
DTEND;TZID=Europe/Madrid:20260305T000000
DTSTAMP:20260423T180815
CREATED:20260305T201502Z
LAST-MODIFIED:20260310T184155Z
UID:1582-1772668800-1772668800@espaciotangente.net
SUMMARY:'Arte callejero de la Ciudad de México y Oxaca'\, por Antony Price
DESCRIPTION:Os invitamos a una charla que tratará el arte callejero mexicano\, además de abordar parte de la historia reciente de México. Se pretende visualizar la enorme variedad del arte callejero que ubicado a lo largo del extenso callejero de la Ciudad de México y del estado de Oaxaca\, sus consignas políticas\, sus alegres colores\, sus punzantes críticas sociales. \nLas imágenes se presentarán de manera informal\, con intervenciones y comentarios de las personas asistentes. Os animamos a venir y participar.
URL:https://espaciotangente.net/evento/arte-callejero-de-la-ciudad-de-mexico-y-oxaca-por-antony-price/
CATEGORIES:Arte / Artesanía,Charla / Conferencia
END:VEVENT
END:VCALENDAR