BEGIN:VCALENDAR
VERSION:2.0
PRODID:-//Espacio Tangente - ECPv6.15.17.1//NONSGML v1.0//EN
CALSCALE:GREGORIAN
METHOD:PUBLISH
X-ORIGINAL-URL:https://espaciotangente.net
X-WR-CALDESC:Eventos para Espacio Tangente
REFRESH-INTERVAL;VALUE=DURATION:PT1H
X-Robots-Tag:noindex
X-PUBLISHED-TTL:PT1H
BEGIN:VTIMEZONE
TZID:Europe/Madrid
BEGIN:DAYLIGHT
TZOFFSETFROM:+0100
TZOFFSETTO:+0200
TZNAME:CEST
DTSTART:20250330T010000
END:DAYLIGHT
BEGIN:STANDARD
TZOFFSETFROM:+0200
TZOFFSETTO:+0100
TZNAME:CET
DTSTART:20251026T010000
END:STANDARD
BEGIN:DAYLIGHT
TZOFFSETFROM:+0100
TZOFFSETTO:+0200
TZNAME:CEST
DTSTART:20260329T010000
END:DAYLIGHT
BEGIN:STANDARD
TZOFFSETFROM:+0200
TZOFFSETTO:+0100
TZNAME:CET
DTSTART:20261025T010000
END:STANDARD
BEGIN:DAYLIGHT
TZOFFSETFROM:+0100
TZOFFSETTO:+0200
TZNAME:CEST
DTSTART:20270328T010000
END:DAYLIGHT
BEGIN:STANDARD
TZOFFSETFROM:+0200
TZOFFSETTO:+0100
TZNAME:CET
DTSTART:20271031T010000
END:STANDARD
END:VTIMEZONE
BEGIN:VEVENT
DTSTART;TZID=Europe/Madrid:20260328T183000
DTEND;TZID=Europe/Madrid:20260429T213000
DTSTAMP:20260423T181752
CREATED:20260324T195346Z
LAST-MODIFIED:20260421T094359Z
UID:1786-1774722600-1777498200@espaciotangente.net
SUMMARY:HABITAR EL PROCESO / EXPOSICIÓN FOTOGRÁFICA COLECTIVA DE LA GUARDA
DESCRIPTION:Inauguración sábado 28 de marzo de 13:00 h. a 20:00h. \nExposición del 30 de marzo al 29 de abril. De lunes a jueves de 18:30 h. a 21:30 h. \nHabitar el proceso: contemplar · resonar · compartir\nEsta exposición colectiva impulsada por LA GUARDA\, propone entender la creación como un lugar que se habita\, más que como meta. A lo largo de 38 paredes\, la muestra reúne los trabajos de 38 autoras y autores que permanecen en ese trayecto abierto: en la duda\, en el ensayo\, en la fragilidad de lo que aún no está cerrado.\nLa exposición se despliega como un mapa. En LA GUARDA concebimos los proyectos no como un fin\, sino como un lugar que acoge lo múltiple\, lo contradictorio y lo inacabado; un tejido que permite que nuevas ideas y formas sigan naciendo\, creciendo y resonando entre los vínculos que generamos.\nSin poner el foco en las conclusiones cerradas\, en estos cuerpos de trabajo hay prácticas vivas atravesadas por preguntas\, palabras e intercambios que continúan su diálogo más allá de la sala. Cada propuesta que aquí se presenta es un ejercicio de despliegue creativo: el visitante se encontrará con paredes de proceso o de proyecto que funcionan como mapas\, o como un gesto\, un rastro del universo visual al que aluden. \nHABITAR EL PROCESO es ensayo\, experimentación\, prueba. Es observar\, esperar\, contemplar el instante y el fragmento. Es hacer posible la pausa\, para alimentarnos con creatividad\, intuición y deseo.\nTambién es trazar el trabajo creativo desde las pasiones y obsesiones que nos mueven: pasando por la necesidad de universalizar la experiencia\, encontrar un lenguaje\, una forma y una estética que lo encarnen.\nHay temas comunes que nos atraviesan. Van desde la narrativa de la ausencia\, que representa la pérdida a través de lo que falta\, hasta el cuestionamiento del archivo\, su recontextualización\, la identidad del territorio y sus raíces; las ficciones y sus puestas en escena que construyen realidades; la simbología del objeto como metáfora de lo complejo; las emociones\, la construcción de la identidad\, la experiencia\, el cuerpo y la vulnerabilidad.\nImágenes que median conflictos emocionales\, que ensayan pertenencias posibles y que entienden la fotografía como lugar de tránsito\, más que como meta.\nAutoras y autores participantes:\nCatalina Alonso\, Marta Arquero\, Ligia Berg\, Majo de Boni\, Lujan Borzi\, Bk Carty\, Mont Carver\, Roberta Chavez\, Cecilia Dalceggio\, Marta Domingo\, Paula Dornan\, Karen Gaitán\, Carlotta Gambato\, Victoria Ge\, Sophia di Girolamo\, Nuria R. Gomes\, Adri Atlántico\, Chofitas\, Paula Isidro\, Begoña Kohlbach\, Celia López Maroto\, Ester Montenegro\, Valentina Montes\, Carlos Ramos\, Soff Muinelo\, Mario Palace\, Salomé Rodríguez\, María Rojo\, Adriana S.\, Paola Arbildua\, Donna Salama\, Estela Sanz\, Elisa Soto\, Carla Sánchez\, Marta Vizoso\, Sarah Whitehurst\, Suhui Xia\, Manón Yanes. \nSobre LA GUARDA:\nLA GUARDA es un taller coordinado por Eva Casanueva. También es un colectivo. Se sostiene en una idea profunda y compartida: la práctica como motor de pensamiento y la fuerza de lo grupal como sostén y expansión. Nos interesa la imagen como modo de pensar\, mirar y construir.\nEste modo de trabajar se concreta en encuentros semanales donde cada persona explora su lenguaje visual en un espacio seguro y acompañado por el diálogo. \nIg: @somoslaguarda
URL:https://espaciotangente.net/evento/habitar-el-proceso-exposicion-fotografica-colectiva-de-la-guarda/
LOCATION:Espacio Tangente\, c/ Valentín Jalón\, 10\, Bajo\, Burgos\, Burgos\, 09005\, Spain
CATEGORIES:Exposiciones,Fotografía
ATTACH;FMTTYPE=image/jpeg:https://espaciotangente.net/wp-content/uploads/2026/03/w-LAGUARDA_inauguracion-1.jpeg
END:VEVENT
BEGIN:VEVENT
DTSTART;VALUE=DATE:20260213
DTEND;VALUE=DATE:20260315
DTSTAMP:20260423T181752
CREATED:20260219T095112Z
LAST-MODIFIED:20260326T175510Z
UID:1587-1770940800-1773532799@espaciotangente.net
SUMMARY:'Intento de brillar'\, de Eva Casanueva
DESCRIPTION:Horarios de visita: De lunes a viernes de 18:30 a 21:30 \n«La obra como sobra de un proceso\, el brillo como la expresión de lo inefable y el fracaso como ocasión productiva de un desvío.» \nEl libro como altar para la imagen o laberinto. El libro como dispositivo de juego serio” Intento de Brillar: breve ensayo sobre el parecer exterior y el padecer interior es un proyecto que abarca una década de duelo\, un proceso indeterminado en el que la imagen posibilita reconstruir\, en su hacer oblicuo\, los tejidos relacionales que la depresión vulnera. Un conjunto de fotografías que\, como un mapa intuitivo de escenificaciones\, busca revelar lo cotidiano como ritual y trazar una narrativa suspendida. \nEn una sociedad obsesionada con proyectar una aspiración de felicidad y eficacia que a menudo se contradice con nuestra experiencia interna\, la fotografía hace posible una mirada direccional\, un ordenamiento frágil pero intempestivo hacia un propósito de vida. \nIntento de brillar es una intención de encontrar un territorio habitable entre lo que se padece y lo que aparece. \nTras el diagnóstico de una enfermedad\, la construcción de este cúmulo de imágenes operó no sólo como compañera de la incertidumbre y el sufrimiento\, sino también como afirmación de una identidad concreta\, compleja y vulnerable que reclama su derecho al dolor\, al placer\, al miedo y al descaro. \nCada imagen es una escucha atenta a resonancias individuales\, es creadora de afectos conectivos\, son simulacros que evidencian lo no resuelto y devuelven una posibilidad\, un experimento\, una anotación para trascender. \nEl libro forma parte de la colección de Cuadernos de la Kursala\, comisariado por Jesús Micó\, y fue una exposición que pudo visitarse hasta finales de enero de 2024 en la Sala Kursala de la Universidad de Cádiz. El año pasado también se ha expuesto en la galería Le Mur de Madrid\, en el Festival Internacional de Arica (Chile)\, en AfricafotoFair de Costa de Marfil.
URL:https://espaciotangente.net/evento/intento-de-brillar-de-eva-casanueva/
LOCATION:Espacio Tangente\, c/ Valentín Jalón\, 10\, Bajo\, Burgos\, Burgos\, 09005\, Spain
CATEGORIES:Exposiciones
ATTACH;FMTTYPE=image/jpeg:https://espaciotangente.net/wp-content/uploads/2026/02/Exposicion-Intento-de-Brillar-de-Eva-Casanueva-en-Espacio-Tangente.jpg
END:VEVENT
END:VCALENDAR