BEGIN:VCALENDAR
VERSION:2.0
PRODID:-//Espacio Tangente - ECPv6.15.17.1//NONSGML v1.0//EN
CALSCALE:GREGORIAN
METHOD:PUBLISH
X-ORIGINAL-URL:https://espaciotangente.net
X-WR-CALDESC:Eventos para Espacio Tangente
REFRESH-INTERVAL;VALUE=DURATION:PT1H
X-Robots-Tag:noindex
X-PUBLISHED-TTL:PT1H
BEGIN:VTIMEZONE
TZID:Europe/Madrid
BEGIN:DAYLIGHT
TZOFFSETFROM:+0100
TZOFFSETTO:+0200
TZNAME:CEST
DTSTART:20250330T010000
END:DAYLIGHT
BEGIN:STANDARD
TZOFFSETFROM:+0200
TZOFFSETTO:+0100
TZNAME:CET
DTSTART:20251026T010000
END:STANDARD
BEGIN:DAYLIGHT
TZOFFSETFROM:+0100
TZOFFSETTO:+0200
TZNAME:CEST
DTSTART:20260329T010000
END:DAYLIGHT
BEGIN:STANDARD
TZOFFSETFROM:+0200
TZOFFSETTO:+0100
TZNAME:CET
DTSTART:20261025T010000
END:STANDARD
BEGIN:DAYLIGHT
TZOFFSETFROM:+0100
TZOFFSETTO:+0200
TZNAME:CEST
DTSTART:20270328T010000
END:DAYLIGHT
BEGIN:STANDARD
TZOFFSETFROM:+0200
TZOFFSETTO:+0100
TZNAME:CET
DTSTART:20271031T010000
END:STANDARD
END:VTIMEZONE
BEGIN:VEVENT
DTSTART;TZID=Europe/Madrid:20260314T170000
DTEND;TZID=Europe/Madrid:20260314T200000
DTSTAMP:20260423T175850
CREATED:20260302T190941Z
LAST-MODIFIED:20260413T181750Z
UID:1671-1773507600-1773518400@espaciotangente.net
SUMMARY:RITUAL DE ESCUCHA. TUNIPANEA / Improvisación sonora con instrumentos de la colección LUTITEKA.
DESCRIPTION:Imparte: Tunipanea / Jonathan García Lana \n\n\n\nFecha: sábado 14 Marzo 2026\nHorario: de 17:00 h. a 20:00 h.\nNo necesaria experiencia musical\nParticipantes: 12 máximo\nPrecio: 20 € no socias _ 15 € socias\nLugar: Biblioteca\nInscripciones: espaciotangente.net / Espacio Tangente: C/ Valentin Jalón 10. 09005- Burgo  / info@espaciotangente.net \n\n\n\n\nUn encuentro participativo para explorar el sonido y la escucha a través de los instrumentos experimentales de la exposición LUTITEKA. \n\n\n\n\n\n\nDurante la sesión\, las personas participantes podrán conocer y tocar estos instrumentos únicos\, guiadas por una serie de instrucciones abiertas que invitan a la improvisación colectiva. \n\n\n\n\nLos instrumentos carecen de connotaciones culturales o técnicas\, lo que permite una experiencia más libre\, grupal e igualitaria. \n\n\n\n\n\nNo es necesaria experiencia musical previa: el taller propone un espacio de descubrimiento sensorial y de creación compartida\, donde el juego y la escucha son los protagonistas. \n\n\n\n\nAl finalizar cada ejercicio se abre un breve momento de reflexión colectiva sobre temas como el silencio\, la escucha\, el espacio personal\, la evolución grupal o el equilibrio entre lo individual y lo común. \n\n\n\n\n \nBIO_ \n\n\n\n\n\n\nJonathan García Lana / Tunipanea (Bélgica\, 1985) reside y trabaja como artista y artesano en Bilbao\, donde tiene su estudio desde 2010. Con un máster en Arte Contemporáneo\, Tecnológico y Performativo (UPV/EHU) complementa su área de interés artístico con otras formaciones técnicas relacionadas con la electrónica\, robótica\, sonido\, técnicas artesanales y técnicas de fabricación digital. Diseña y construye instrumentos musicales híbridos mezclando ideas\, formas y recursos tanto de origen tradicional como contemporáneos\, una práctica que enmarca en el área de la luthería experimental. Sus investigaciones se ramifican por un lado en servicios de encargo o asesoría creativa y por otro lado en actividades de cara al público como talleres\, exposiciones\, directos y proyectos especiales como Lutiteka (Biblioteca de préstamo de instrumentos musicales experimentales) \nhttps://www.tunipanea.com \n\n\n\n\n\n\n\n\n\n\n\n\n\n\nhttps://www.lutiteka.com \n\n\n\n\n\n\n\n\n\n\nRedes: @tunipanea \nInscripción TalleresPara inscribirse en los talleres activos\, será necesario completar la inscripción a través del siguiente formulario. \n\nLos talleres cuentan con plazas limitadas\, por lo que se respetará el orden de inscripción de las personas participantes. \n\nUna vez realizada la inscripción\, será necesario efectuar el pago a través de estos métodos de pago:  \n\n\n Efectivo en el Espacio Tangente\nIngreso en cuenta a través de transferencia bancaria en ES44 3035 0240 74 2400020178\n\n\nIMPORTANTE:  El pago se deberá realizar una vez se confirme desde la organización que el taller se llevará a cabo.  Por favor\, activa JavaScript en tu navegador para completar este formulario.Por favor\, activa JavaScript en tu navegador para completar este formulario.Nombre y apellidos *NombreApellidosCorreo electrónico *¿Eres persona asociada del Espacio Tangente?SíNoTaller al que deseas inscribirte *-- Selecciona la opción --DEPROCESO. 20 / 04 / 26.Dudas\, preguntas\, necesidades para el taller (opcional)		\n			electrónico (opcional) del\n			\n		\n		Casillas de verificación *He leído y acepto la política de privacidad.Responsable de tratamiento: Asociación para la creación de un espacio de creación y muestra de artes plásticas y audiovisuales\nFinalidad: Inscripción en los talleres programados en Espacio Tangente y envío de la información solicitada\nLegitimización: Consentimiento del interesado\nDestinatarios: Espacio Tangente\nDerechos: De acceso\, rectificación y supresión de datos\, así como los indicados en nuestra política de privacidad Enviar
URL:https://espaciotangente.net/evento/ritual-de-escucha-improvisacion-sonora-con-instrumentos-de-la-coleccion-lutiteka/
LOCATION:Biblioteca\, C/ Valentín Jalón\, 10\, Bajo\, Burgos\, Spain
CATEGORIES:Música y artes vivas,Talleres
ATTACH;FMTTYPE=image/jpeg:https://espaciotangente.net/wp-content/uploads/2026/03/w-Print_RitualdeEscucha140326.jpg
END:VEVENT
END:VCALENDAR