BEGIN:VCALENDAR
VERSION:2.0
PRODID:-//Espacio Tangente - ECPv6.15.17.1//NONSGML v1.0//EN
CALSCALE:GREGORIAN
METHOD:PUBLISH
X-ORIGINAL-URL:https://espaciotangente.net
X-WR-CALDESC:Eventos para Espacio Tangente
REFRESH-INTERVAL;VALUE=DURATION:PT1H
X-Robots-Tag:noindex
X-PUBLISHED-TTL:PT1H
BEGIN:VTIMEZONE
TZID:UTC
BEGIN:STANDARD
TZOFFSETFROM:+0000
TZOFFSETTO:+0000
TZNAME:UTC
DTSTART:20230101T000000
END:STANDARD
END:VTIMEZONE
BEGIN:VEVENT
DTSTART;VALUE=DATE:20241115
DTEND;VALUE=DATE:20241214
DTSTAMP:20260424T174222
CREATED:20260206T162533Z
LAST-MODIFIED:20260310T190554Z
UID:1509-1731628800-1734134399@espaciotangente.net
SUMMARY:'El Directo'\, una exposición de Gabriel Luengas
DESCRIPTION:INAUGURACIÓN: Viernes 15 noviembre a las 20:00  con visita guiada a cargo del artista\n \nHORARIO DE VISITAS: De lunes a viernes de 18:30 a 21:30 h\n \nEste es el ferrocarril de la España vacía. Un esqueleto abandonado entre campos castellanos\, a través del cual viajaremos para tratar de dilucidar qué desapareció antes: la población o el tren que hace más de 10 años partió de tierras burgalesas para no volver jamás. \nDel tren directo Madrid-Burgos sólo queda una vía y unas cuantas estaciones abandonadas\, que apenas se mantienen en pie. Son el fantasma de la España que soñaba en grande\, que quería conectarse con Europa\, y que ahora adornan las afueras de algunos pueblos en los que\, en contraste con las grandes ciudades\, ya nadie quiere vivir. \nA su alrededor y dentro de sus estaciones\, se generan narrativas visuales que hablan del abandono de un mundo rural al que hace años se miraba con otros ojos. Las pocas personas que habitan en estos pueblos recuerdan con añoranza un pedazo de futuro que nos dejamos en el pasado\, y me invitan a preguntarme: si vivimos en un país con despoblación\, si nos venden que el tren es el progreso ¿Por qué se abandonan estas infraestructuras? \nSobre el autor\nGabriel Luengas es un fotoperiodista burgalés\, asentado en Madrid\, que trabaja realizando coberturas de noticias en la capital y reportajes fotográficos. \nHa estudiado Comunicación Audiovisual en la Universidad de Burgos y completó un máster en Fotografía Artística y Documental en la Escuela TAI en Madrid. Luengas ha trabajado en diversos proyectos y reportajes\, abarcando temas como el futuro de los refugiados en Berlín y Grecia\, y ha contribuido con publicaciones como Deutsche Welle\, El País\, Gault & Millau y Europa Press. \nGabriel ve en la fotografía no sólo un medio de expresión personal\, sino también una herramienta para investigar y explorar no otras culturas\, sociedades y los retos que enfrentan en un tablero geopolítico complejo en el que todo está conectado.
URL:https://espaciotangente.net/evento/el-directo-una-exposicion-de-gabriel-luengas/
CATEGORIES:Exposiciones,Fotografía
ATTACH;FMTTYPE=image/jpeg:https://espaciotangente.net/wp-content/uploads/2026/02/El-Directo-Gabriel-Luengas.jpg
END:VEVENT
END:VCALENDAR