BEGIN:VCALENDAR
VERSION:2.0
PRODID:-//Espacio Tangente - ECPv6.15.17.1//NONSGML v1.0//EN
CALSCALE:GREGORIAN
METHOD:PUBLISH
X-WR-CALNAME:Espacio Tangente
X-ORIGINAL-URL:https://espaciotangente.net
X-WR-CALDESC:Eventos para Espacio Tangente
REFRESH-INTERVAL;VALUE=DURATION:PT1H
X-Robots-Tag:noindex
X-PUBLISHED-TTL:PT1H
BEGIN:VTIMEZONE
TZID:UTC
BEGIN:STANDARD
TZOFFSETFROM:+0000
TZOFFSETTO:+0000
TZNAME:UTC
DTSTART:20240101T000000
END:STANDARD
END:VTIMEZONE
BEGIN:VEVENT
DTSTART;VALUE=DATE:20250313
DTEND;VALUE=DATE:20250411
DTSTAMP:20260424T112412
CREATED:20260202T100005Z
LAST-MODIFIED:20260305T180440Z
UID:1395-1741824000-1744329599@espaciotangente.net
SUMMARY:Viñetas & Subversión: II Jornadas de cómic social y libertario
DESCRIPTION:Regresa Viñetas & Subversión con las II Jornadas de Cómic Social y Libertario que tendrán lugar en Burgos durante los meses de marzo y abril.  \nUnas jornadas que buscan poner en valor\, entre otras cosas\, la conciencia crítica\, la recuperación de la memoria histórica\, el feminismo y el pensamiento libertario\, a través del lenguaje del cómic. \n Al igual que en la edición anterior\, Viñetas & Subversión representa una iniciativa que se desarrollará en diferentes espacios de la ciudad y que ve la luz gracias al esfuerzo conjunto de varias organizaciones y colectivos. \n  El amplio programa de 2025 cuenta con la presencia tanto de valores emergentes\, como otros ya consagrados en el 9º Arte desde hace años. Además\, se ha querido dar especial visibilidad a la cada vez mayor presencia de autoras en el mundo de la novela gráfica\, así como a los creadores locales\, que tendrán también su espacio. \nSESIÓN 1: Presentación del cómic Sin olvido. Un viaje por la memoria antifascista\nAteneo Libertario de CGT\nC/ Hospital de los ciegos\, S/N\nJueves 13 de marzo\,19:00 horas \nSin olvido. Un viaje por la memoria antifascista es un cómic que nos plantea el viaje de Lola\, una mujer que realiza una investigación sobre la represión en el régimen franquista\, lo que le lleva a dialogar con los miles de muertos olvidados en nuestras cunetas y reflexionar sobre los peligros políticos y sociales de nuestra desmemoria colectiva. Su autor\, Rubén Uceda\, indispensable en unas jornadas como estas\, trabaja por y desde el mundo rural\, y crea cómics contra la desmemoria y por la construcción de un imaginario anticapitalista. Es autor de Atado y bien atado. La transición golpe a golpe (1969-1981) y La huerta y el origen de las cosas\, entre otros títulos. \n \n\nSESIÓN 2: Presentación del cómic Cumbres en pie de guerra. La batalla de El Mazucu\nCNT Burgos\nC/ Doña Berenguela\, 3\nSábado 15 de marzo\, 19:00 horas \nCumbres en pie de guerra. La batalla de El Mazucu surge como novela histórica que utiliza el lenguaje narrativo del cómic y nos traslada a los sucesos bélicos que tuvieron lugar en Asturias en 1937 durante el transcurso de la Guerra Civil. El relato pone el foco en el grupo de afinidad de Roque\, un obrero de las cuencas mineras asturianas y veterano de la revolución de octubre de 1934 que desempeña el papel de enlace del Ejército Republicano. Su autor\, Guillermo Menéndez Quirós\, natural de la Felguera\, población de la Cuenca Minera de Asturias y escenario de numerosas luchas sociales\, ha dado vida a otros proyectos como Milicias Vascas Antifascistas y Ana María\, la Llobera d’ Asturies donde se combinan historia y trasfondo social \n \n  \nSESIÓN 3: Presentación del cómic Stein (piedra)\nBiblioteca Anarquista La Maldita\nC/ Pablo Casals\, 17\nViernes 21 de marzo\, 19:00 horas \n¿Qué impulsa a un abogado\, padre de tres hijos\, a abandonar la vida convencional e intentar transformar la sociedad desde sus cimientos? ¿Vale la pena el sacrificio? El autor de Steinbusca respuestas a su propia experiencia como hijo de un luchador social a través de un cómic que rinde homenaje a los luchadores por la libertad en tres momentos históricos y en tres países diferentes: la época soviética\, la Argentina de la dictadura y el exilio en España. Agustín Comotto\, ilustrador e historietista de origen argentino y actualmente residente en Barcelona\, es autor también de obras como 155\, novela gráfica sobre la vida de Simón Radowitzky; o Nebrija\, un cómic donde bucea en la biografía del humanista Antonio Nebrija\, entre otras obras. \n \n  \nSESIÓN 4: Mesa redonda sobre cómic y la problemática social del aborto\nCentro Social Recuperado de Gamonal\nC/ Pablo Casals\, 3\nSábado 22 de marzo\, 12:00 horas \nEl cómic es un medio que está demostrando con creces su capacidad de plantear cualquier tipo de debate\, por intrincado y polémico que sea. A partir de esta premisa\, planteamos una mesa redonda en la que debatir sobre la problemática social del aborto con autores y autoras que han abordado esta temática en sus obras. Contaremos con la presencia de Elizabeth Casillas e Higinia Garay\, autoras de La palabra que empieza por A; y de los burgaleses Raúl e Iñigo Franco Benito creadores de la novela gráfica Y si sale mal. \n  \n  \nSESIÓN 5: Presentación del cómic Vanguardia es una mujer\nEspacio Tangente\nC/ Valentín jalón\, 10\nSábado 29 de marzo\, 19:00 horas \nConcha Méndez fue una de las voces poéticas más singulares de la Generación del 27 y una de las mujeres que más batalló por la igualdad de género en el ámbito de la cultura española del primer tercio del siglo XX. En 1983\, desde su exilio en México\, Concha rememora para su nieta aquellos años convulsos repletos de rebeldía y descubrimientos. Clara de Frutos\, autora de Vanguardia es una mujer\, nos plantea un apasionante relato en viñetas con el que se reivindica a las mujeres que conformaron la Generación del 27 y han pasado a la historia como las Sinsombrero. Una obra\, galardonada con la beca de creación de El arte de volar\, que representa la opera prima de una genial y prometedora historietista que combina ilustración y docencia. \n \n  \nSESIÓN 6: Presentación del cómic Contrapaso. Mayores\, con reparos\nEspacio Tangente\nC/ Valentín jalón\, 10\nJueves 10 de abril\, 19:00 horas \nMadrid\, octubre de 1956. Un censor eclesiástico aparece muerto en la butaca de un cine con el rollo de celuloide en la boca. Tirando de ese hilo\, León Lenoir\, Emilio Sanz y Paloma Ríos destaparán un asunto de altos vuelos en el que se mezclan estraperlistas\, especuladores\, cineastas\, jerarcas del régimen e idealistas de distinto pelaje. Como telón de fondo\, una multitud miserable que solo aspira a tener un techo bajo el que cobijarse. Teresa Valero\, nos presenta la segunda parte de Contrapaso\, un conmovedor fresco en el que emoción\, denuncia social y suspense van de la mano.
URL:https://espaciotangente.net/evento/vinetas-subversion-ii-jornadas-de-comic-social-y-libertario/
LOCATION:Burgos
CATEGORIES:Arte / Artesanía,Charla / Conferencia
ATTACH;FMTTYPE=image/jpeg:https://espaciotangente.net/wp-content/uploads/2026/02/CARTEL_II_JORNADAS_COMIC_SOCIAL_Y_LIBERTARIO-2025.jpg
END:VEVENT
BEGIN:VEVENT
DTSTART;TZID=UTC:20250403T183000
DTEND;TZID=UTC:20250403T203000
DTSTAMP:20260424T112412
CREATED:20260112T171534Z
LAST-MODIFIED:20260305T175436Z
UID:1053-1743705000-1743712200@espaciotangente.net
SUMMARY:Taller de fotografía estenopeica-pinhole
DESCRIPTION:Taller de fotografía estenopeica-pinhole impartido por Alfredo Herrezuelo. \nContenido del taller: \n\nAprender que es la fotografía estenopeica.\nConocer la lógica y la teoría de este tipo de fotografía.\nVer diferentes tipos de posibilidades de fotografía estenopeica.\nAprender a construir una cámara desde cero.\nRealizar una práctica fotográfica.\n\nDuración del taller: 2 horas. \nPrecio \n\nNo socios: 30 euros\nSocios: 20 euros\n\nEl taller está pensado para un máximo de 4 personas y un mínimo de 2 personas. Si no se cubren el total de las plazas\, se celebrará solamente una fecha. Los materiales para este taller están incluidos.
URL:https://espaciotangente.net/evento/taller-de-fotografia-estenopeica-pinhole/
LOCATION:Burgos
CATEGORIES:Fotografía,Talleres
ATTACH;FMTTYPE=image/jpeg:https://espaciotangente.net/wp-content/uploads/2026/01/Taller-de-fotografia-estenopeica-pinhole-1.jpg
END:VEVENT
BEGIN:VEVENT
DTSTART;TZID=UTC:20250407T193000
DTEND;TZID=UTC:20250407T193000
DTSTAMP:20260424T112412
CREATED:20260109T105617Z
LAST-MODIFIED:20260305T175214Z
UID:1015-1744054200-1744054200@espaciotangente.net
SUMMARY:Encuentro X
DESCRIPTION:PRÓXIMO ENCUENTRO X: Lunes 7 de abril 2025 a las 19:30 h con el tema «Soledad no deseada» \nENCUENTRO X busca crear un espacio donde nos podamos juntar y podamos compartir nuestras inquietudes\, preocupaciones\, sentires entorno a los temas que más atraviesan a la sociedad hoy en día. La diferencia con otros espacios donde se puedan crear espacios de debate\, es que ese compartir no será simplemente a través de la palabra y la conversación\, sino con el arte como protagonista y herramienta que nos conecte. \nEn cada encuentro que se haga habrá un tema que lo vertebre\, como puede ser; los derechos humanos (o la falta de derechos humanos)\, la vivienda\, la soledad no deseada\, el individualismo nocivo\, la conexión con el medio rural\, los cuidados y relaciones sociales\, el cuidado del medio ambiente\, la salud mental\, etc. \nLas personas que deseen compartir sobre ese tema pueden hacerlo a través de la expresión artística que mejor recoja su voz y su necesidad comunicativa; poesía\, música\, expresión corporal\, piezas visuales o audiovisuales\, fotografía… todo lo que nos permita comunicarnos y esté relacionado con lo artístico.\n\nLos encuentros tendrán una duración de 1h y media. Las propuestas pueden ser propias como de otrxs autorxs y se enviarán por email a encuentroxtangentes@gmail.com \nDeben especificar la disciplina artística\, una breve descripción\, la duración y si puede ser\, una pequeña muestra de ello. La duración mínima de cada propuesta es de 5 min y máxima de 15 min. Las personas organizadoras seleccionarán aquellas que permitan la presencia de varias disciplinas artísticas y que se centren en el tema a tratar de ese día. \nAl final del encuentro se dejará un espacio libre de propuestas para\, si se da de forma natural\, dar pie a compartir nuestras sensaciones y pensamientos de forma grupal y a través de la palabra\, siempre desde el respeto y la escucha.\nTambién en ese momento se seleccionará el tema a tratar en el siguiente encuentro. Para ello cada persona de forma individual y anónima decidirá de lo que quiere que se hable en la siguiente ocasión\, y el tema más mencionado será el seleccionado. De esta manera\, las personas asistentes ya conocerán el tema sobre el que pueden enviar sus propuestas por email. \nAl ser un espacio de encuentro\, son tan importantes las piezas y las personas que las exponen como las personas que escuchan\, y es aún más importante la actitud de respeto y escucha en ese compartir. Así que\, aunque no tengas una propuesta\, tu presencia es igual de importante y nutritiva en este espacio.\nAnímate\, y calienta el corazón y las esperanzas al calor del encuentro. \n\nDeben especificar la disciplina artística\, una breve descripción\, la duración y si puede ser\, una pequeña muestra de ello. La duración mínima de cada propuesta es de 5 min y máxima de 15 min. \nLas personas organizadoras seleccionarán aquellas que permitan la presencia de varias disciplinas artísticas y que se centren en el tema a tratar de ese día. \nAl final del encuentro se dejará un espacio libre de propuestas para\, si se da de forma natural\, dar pie a compartir nuestras sensaciones y pensamientos de forma grupal y a través de la palabra\, siempre desde el respeto y la escucha.\nTambién en ese momento se seleccionará el tema a tratar en el siguiente encuentro. Para ello cada persona de forma individual y anónima decidirá de lo que quiere que se hable en la siguiente ocasión\, y el tema más mencionado será el seleccionado. De esta manera\, las personas asistentes ya conocerán el tema sobre el que pueden enviar sus propuestas por email. \nAl ser un espacio de encuentro\, son tan importantes las piezas y las personas que las exponen como las personas que escuchan\, y es aún más importante la actitud de respeto y escucha en ese compartir. Así que\, aunque no tengas una propuesta\, tu presencia es igual de importante y nutritiva en este espacio.\nAnímate\, y calienta el corazón y las esperanzas al calor del encuentro.
URL:https://espaciotangente.net/evento/encuentrox/
LOCATION:Burgos
CATEGORIES:Arte / Artesanía
ATTACH;FMTTYPE=image/jpeg:https://espaciotangente.net/wp-content/uploads/2026/01/Encuentrox-Espacio-Tangente.jpg
END:VEVENT
END:VCALENDAR